BEGIN:VCALENDAR
VERSION:2.0
PRODID:-//Iosco Sportsmens Club - ECPv6.15.20//NONSGML v1.0//EN
CALSCALE:GREGORIAN
METHOD:PUBLISH
X-ORIGINAL-URL:http://ioscosportsmen.com
X-WR-CALDESC:Events for Iosco Sportsmens Club
REFRESH-INTERVAL;VALUE=DURATION:PT1H
X-Robots-Tag:noindex
X-PUBLISHED-TTL:PT1H
BEGIN:VTIMEZONE
TZID:America/New_York
BEGIN:DAYLIGHT
TZOFFSETFROM:-0500
TZOFFSETTO:-0400
TZNAME:EDT
DTSTART:20250309T070000
END:DAYLIGHT
BEGIN:STANDARD
TZOFFSETFROM:-0400
TZOFFSETTO:-0500
TZNAME:EST
DTSTART:20251102T060000
END:STANDARD
BEGIN:DAYLIGHT
TZOFFSETFROM:-0500
TZOFFSETTO:-0400
TZNAME:EDT
DTSTART:20260308T070000
END:DAYLIGHT
BEGIN:STANDARD
TZOFFSETFROM:-0400
TZOFFSETTO:-0500
TZNAME:EST
DTSTART:20261101T060000
END:STANDARD
BEGIN:DAYLIGHT
TZOFFSETFROM:-0500
TZOFFSETTO:-0400
TZNAME:EDT
DTSTART:20270314T070000
END:DAYLIGHT
BEGIN:STANDARD
TZOFFSETFROM:-0400
TZOFFSETTO:-0500
TZNAME:EST
DTSTART:20271107T060000
END:STANDARD
END:VTIMEZONE
BEGIN:VEVENT
DTSTART;TZID=America/New_York:20260725T100000
DTEND;TZID=America/New_York:20260725T130000
DTSTAMP:20260419T184545
CREATED:20260113T182947Z
LAST-MODIFIED:20260320T144342Z
UID:10001984-1784973600-1784984400@ioscosportsmen.com
SUMMARY:Fullbore
DESCRIPTION:Fullbore matches take place on the 600 yard range\, this competition is new to the club.
URL:http://ioscosportsmen.com/event/fullbore-3/
LOCATION:Wurtsmith Range\, 2827 Rea Road\, Oscoda\, 48750\, United States
CATEGORIES:600 Yard Match
END:VEVENT
BEGIN:VEVENT
DTSTART;TZID=America/New_York:20260726T100000
DTEND;TZID=America/New_York:20260726T130000
DTSTAMP:20260419T184545
CREATED:20260113T182313Z
LAST-MODIFIED:20260113T182313Z
UID:10001978-1785060000-1785070800@ioscosportsmen.com
SUMMARY:600 F-Class
DESCRIPTION:600 Yard F-Class\, Highpower and F-Bench match.  Course of fire is 3X20\, unlimited sighters on the first match\, two convertible sighters on math 2 and 3.  Electronic targets\, no pit duty.  NRA listed matches.  Squading begins at 8am\, match at 10am
URL:http://ioscosportsmen.com/event/600-f-class-4/
LOCATION:Wurtsmith Range\, 2827 Rea Road\, Oscoda\, 48750\, United States
CATEGORIES:600 Yard Match
END:VEVENT
END:VCALENDAR