BEGIN:VCALENDAR
VERSION:2.0
PRODID:-//Iosco Sportsmens Club - ECPv6.15.20//NONSGML v1.0//EN
CALSCALE:GREGORIAN
METHOD:PUBLISH
X-WR-CALNAME:Iosco Sportsmens Club
X-ORIGINAL-URL:http://ioscosportsmen.com
X-WR-CALDESC:Events for Iosco Sportsmens Club
REFRESH-INTERVAL;VALUE=DURATION:PT1H
X-Robots-Tag:noindex
X-PUBLISHED-TTL:PT1H
BEGIN:VTIMEZONE
TZID:America/New_York
BEGIN:DAYLIGHT
TZOFFSETFROM:-0500
TZOFFSETTO:-0400
TZNAME:EDT
DTSTART:20250309T070000
END:DAYLIGHT
BEGIN:STANDARD
TZOFFSETFROM:-0400
TZOFFSETTO:-0500
TZNAME:EST
DTSTART:20251102T060000
END:STANDARD
BEGIN:DAYLIGHT
TZOFFSETFROM:-0500
TZOFFSETTO:-0400
TZNAME:EDT
DTSTART:20260308T070000
END:DAYLIGHT
BEGIN:STANDARD
TZOFFSETFROM:-0400
TZOFFSETTO:-0500
TZNAME:EST
DTSTART:20261101T060000
END:STANDARD
BEGIN:DAYLIGHT
TZOFFSETFROM:-0500
TZOFFSETTO:-0400
TZNAME:EDT
DTSTART:20270314T070000
END:DAYLIGHT
BEGIN:STANDARD
TZOFFSETFROM:-0400
TZOFFSETTO:-0500
TZNAME:EST
DTSTART:20271107T060000
END:STANDARD
END:VTIMEZONE
BEGIN:VEVENT
DTSTART;TZID=America/New_York:20260820T143000
DTEND;TZID=America/New_York:20260820T170000
DTSTAMP:20260421T061708
CREATED:20260113T150708Z
LAST-MODIFIED:20260113T150708Z
UID:10001956-1787236200-1787245200@ioscosportsmen.com
SUMMARY:G-Class 300
DESCRIPTION:This is a 300 Yard match shooting the F-Class Target from a bench with electronic targets\, no pit duty.  Any rifle or front rest with rear unattached sand bag.  30 caliber maximum. 2X20 match unlimited sighters.
URL:http://ioscosportsmen.com/event/g-class-300-8/
LOCATION:Wurtsmith Range\, 2827 Rea Road\, Oscoda\, 48750\, United States
CATEGORIES:300 Yd G-Class
ORGANIZER;CN="Andy Taber":MAILTO:andy.taber@hotmail.com
END:VEVENT
BEGIN:VEVENT
DTSTART;TZID=America/New_York:20260829T100000
DTEND;TZID=America/New_York:20260829T123000
DTSTAMP:20260421T061708
CREATED:20260113T145812Z
LAST-MODIFIED:20260113T145812Z
UID:10001947-1787997600-1788006600@ioscosportsmen.com
SUMMARY:Benchrest 100
DESCRIPTION:100 Yard Benchrest Score Match.  All X-s count as 11 points.  Varmint for Score Rules. Gates Open at 8am\, Match begins at 10am.
URL:http://ioscosportsmen.com/event/benchrest-100-4/
LOCATION:East Tawas Range\, 1600 North US~23\, East Tawas\, MI\, 48730\, United States
CATEGORIES:100 Yard Benchrest
ORGANIZER;CN="Andy Taber":MAILTO:andy.taber@hotmail.com
END:VEVENT
BEGIN:VEVENT
DTSTART;TZID=America/New_York:20260903T143000
DTEND;TZID=America/New_York:20260903T170000
DTSTAMP:20260421T061708
CREATED:20260113T150738Z
LAST-MODIFIED:20260113T150738Z
UID:10001957-1788445800-1788454800@ioscosportsmen.com
SUMMARY:G-Class 300
DESCRIPTION:This is a 300 Yard match shooting the F-Class Target from a bench with electronic targets\, no pit duty.  Any rifle or front rest with rear unattached sand bag.  30 caliber maximum. 2X20 match unlimited sighters.
URL:http://ioscosportsmen.com/event/g-class-300-9/
LOCATION:Wurtsmith Range\, 2827 Rea Road\, Oscoda\, 48750\, United States
CATEGORIES:300 Yd G-Class
ORGANIZER;CN="Andy Taber":MAILTO:andy.taber@hotmail.com
END:VEVENT
BEGIN:VEVENT
DTSTART;TZID=America/New_York:20260917T143000
DTEND;TZID=America/New_York:20260917T170000
DTSTAMP:20260421T061708
CREATED:20260113T150814Z
LAST-MODIFIED:20260113T150814Z
UID:10001958-1789655400-1789664400@ioscosportsmen.com
SUMMARY:G-Class 300
DESCRIPTION:This is a 300 Yard match shooting the F-Class Target from a bench with electronic targets\, no pit duty.  Any rifle or front rest with rear unattached sand bag.  30 caliber maximum. 2X20 match unlimited sighters.
URL:http://ioscosportsmen.com/event/g-class-300-10/
LOCATION:Wurtsmith Range\, 2827 Rea Road\, Oscoda\, 48750\, United States
CATEGORIES:300 Yd G-Class
ORGANIZER;CN="Andy Taber":MAILTO:andy.taber@hotmail.com
END:VEVENT
BEGIN:VEVENT
DTSTART;TZID=America/New_York:20260926T100000
DTEND;TZID=America/New_York:20260926T123000
DTSTAMP:20260421T061708
CREATED:20260113T145859Z
LAST-MODIFIED:20260113T145859Z
UID:10001948-1790416800-1790425800@ioscosportsmen.com
SUMMARY:Benchrest 100
DESCRIPTION:100 Yard Benchrest Score Match.  All X-s count as 11 points.  Varmint for Score Rules. Gates Open at 8am\, Match begins at 10am.
URL:http://ioscosportsmen.com/event/benchrest-100-5/
LOCATION:East Tawas Range\, 1600 North US~23\, East Tawas\, MI\, 48730\, United States
CATEGORIES:100 Yard Benchrest
ORGANIZER;CN="Andy Taber":MAILTO:andy.taber@hotmail.com
END:VEVENT
BEGIN:VEVENT
DTSTART;TZID=America/New_York:20261001T143000
DTEND;TZID=America/New_York:20261001T170000
DTSTAMP:20260421T061708
CREATED:20260113T150842Z
LAST-MODIFIED:20260113T150842Z
UID:10001959-1790865000-1790874000@ioscosportsmen.com
SUMMARY:G-Class 300
DESCRIPTION:This is a 300 Yard match shooting the F-Class Target from a bench with electronic targets\, no pit duty.  Any rifle or front rest with rear unattached sand bag.  30 caliber maximum. 2X20 match unlimited sighters.
URL:http://ioscosportsmen.com/event/g-class-300-11/
LOCATION:Wurtsmith Range\, 2827 Rea Road\, Oscoda\, 48750\, United States
CATEGORIES:300 Yd G-Class
ORGANIZER;CN="Andy Taber":MAILTO:andy.taber@hotmail.com
END:VEVENT
END:VCALENDAR